BEGIN:VCALENDAR
VERSION:2.0
PRODID:-//© Southern Ontario Lyric Opera (SOLO), 2025. All Rights Reserved. - ECPv6.15.20//NONSGML v1.0//EN
CALSCALE:GREGORIAN
METHOD:PUBLISH
X-WR-CALNAME:© Southern Ontario Lyric Opera (SOLO), 2025. All Rights Reserved.
X-ORIGINAL-URL:https://southernontariolyricopera.com
X-WR-CALDESC:Events for © Southern Ontario Lyric Opera (SOLO), 2025. All Rights Reserved.
REFRESH-INTERVAL;VALUE=DURATION:PT1H
X-Robots-Tag:noindex
X-PUBLISHED-TTL:PT1H
BEGIN:VTIMEZONE
TZID:America/Toronto
BEGIN:DAYLIGHT
TZOFFSETFROM:-0500
TZOFFSETTO:-0400
TZNAME:EDT
DTSTART:20250309T070000
END:DAYLIGHT
BEGIN:STANDARD
TZOFFSETFROM:-0400
TZOFFSETTO:-0500
TZNAME:EST
DTSTART:20251102T060000
END:STANDARD
BEGIN:DAYLIGHT
TZOFFSETFROM:-0500
TZOFFSETTO:-0400
TZNAME:EDT
DTSTART:20260308T070000
END:DAYLIGHT
BEGIN:STANDARD
TZOFFSETFROM:-0400
TZOFFSETTO:-0500
TZNAME:EST
DTSTART:20261101T060000
END:STANDARD
BEGIN:DAYLIGHT
TZOFFSETFROM:-0500
TZOFFSETTO:-0400
TZNAME:EDT
DTSTART:20270314T070000
END:DAYLIGHT
BEGIN:STANDARD
TZOFFSETFROM:-0400
TZOFFSETTO:-0500
TZNAME:EST
DTSTART:20271107T060000
END:STANDARD
END:VTIMEZONE
BEGIN:VEVENT
DTSTART;TZID=America/Toronto:20260612T203000
DTEND;TZID=America/Toronto:20260612T220000
DTSTAMP:20260423T083502
CREATED:20251228T160622Z
LAST-MODIFIED:20260420T144428Z
UID:275640-1781296200-1781301600@southernontariolyricopera.com
SUMMARY:An outdoor Concert under the Stars
DESCRIPTION:SOLO has been invited to help celebrate Italian Heritage month with a special concert on Friday\, June the 12th (rain date Friday\, June 19th)\, starting at 8:30 p.m. It will take place outdoors under the stars at the Hamilton Italian Centre\, 420 Crerar Drive in Hamilton. The concert will be a celebration of the rich and varied music of Italy. Featured guests will include soprano Maria Vetere\, Taylor Frisina\, tenors Romulo Delgado\, Giacomo Folinazzo\, and Joel Ricci\, along with the Sons and Daughters of Italy Choir\, combined with the SOLO Chorus\, and full Orchestra.
URL:https://southernontariolyricopera.com/event/an-outdoor-concert-under-the-stars/
LOCATION:420 Crerar Dr\, Hamilton\, ON L9A 5K3\, Canada\, 420 Crerar Drive\, Hamilton\, Ontario\, L9A 5K3\, Canada
END:VEVENT
END:VCALENDAR